BEGIN:VCALENDAR
VERSION:2.0
PRODID:-//Nottingham Linux Users Group - ECPv5.8.2//NONSGML v1.0//EN
CALSCALE:GREGORIAN
METHOD:PUBLISH
X-WR-CALNAME:Nottingham Linux Users Group
X-ORIGINAL-URL:https://nlug.ml1.co.uk
X-WR-CALDESC:Events for Nottingham Linux Users Group
BEGIN:VTIMEZONE
TZID:Europe/London
BEGIN:DAYLIGHT
TZOFFSETFROM:+0000
TZOFFSETTO:+0100
TZNAME:BST
DTSTART:20160327T010000
END:DAYLIGHT
BEGIN:STANDARD
TZOFFSETFROM:+0100
TZOFFSETTO:+0000
TZNAME:GMT
DTSTART:20161030T010000
END:STANDARD
END:VTIMEZONE
BEGIN:VEVENT
DTSTART;TZID=Europe/London:20161006T193000
DTEND;TZID=Europe/London:20161006T230000
DTSTAMP:20260425T114107
CREATED:20160330T213658Z
LAST-MODIFIED:20161005T141357Z
UID:5173-1475782200-1475794800@nlug.ml1.co.uk
SUMMARY:Underground\, overground waddling to Debsh
DESCRIPTION:Folks\, \nAt this time of year post-Equinox and post- Rosetta crashing into an auspicious asteroid\, we venture to a rustic Persian restaurant to sample the food of the ancient astronomers… Or so 🙂 \nWithout further an occultation 😛 \n \n\nWe rendezvous at our usual 7:30pm at the Hand and Heart\nTo then explore eastwards to Debsh Persian Restaurant about 8:15pm\n\n  \nAll are welcome for all and anything Linux and everything else! \n(Just look for anything Linux and penguins to find us 😉 ) \nSee ya there!
URL:https://nlug.ml1.co.uk/event/underground-overground-waddling-to-debsh
LOCATION:Hand and Heart\, 65-67 Derby Road\, Nottingham\, Nottinghamshire\, NG1 5BA\, United Kingdom
CATEGORIES:Socials
END:VEVENT
END:VCALENDAR