BEGIN:VCALENDAR
VERSION:2.0
PRODID:-//Nottingham Linux Users Group - ECPv5.8.2//NONSGML v1.0//EN
CALSCALE:GREGORIAN
METHOD:PUBLISH
X-WR-CALNAME:Nottingham Linux Users Group
X-ORIGINAL-URL:https://nlug.ml1.co.uk
X-WR-CALDESC:Events for Nottingham Linux Users Group
BEGIN:VTIMEZONE
TZID:Europe/London
BEGIN:DAYLIGHT
TZOFFSETFROM:+0000
TZOFFSETTO:+0100
TZNAME:BST
DTSTART:20110327T010000
END:DAYLIGHT
BEGIN:STANDARD
TZOFFSETFROM:+0100
TZOFFSETTO:+0000
TZNAME:GMT
DTSTART:20111030T010000
END:STANDARD
END:VTIMEZONE
BEGIN:VEVENT
DTSTART;VALUE=DATE:20110917
DTEND;VALUE=DATE:20110918
DTSTAMP:20260426T001126
CREATED:20110914T191448Z
LAST-MODIFIED:20120525T120244Z
UID:552-1316217600-1316303999@nlug.ml1.co.uk
SUMMARY:Software Freedom Day
DESCRIPTION:A worldwide event for anyone and all who might be interested! \n\nSFD is a worldwide celebration of Free and Open Source Software (FOSS)\nWikipedia: Software Freedom Day\n\nIt’s all a part of our Freedoms. \nCheers\,\nMartin
URL:https://nlug.ml1.co.uk/event/software-freedom-day
LOCATION:Worldwide\, Select a Country:
CATEGORIES:General Events
END:VEVENT
END:VCALENDAR