BEGIN:VCALENDAR
VERSION:2.0
PRODID:-//Nottingham Linux Users Group - ECPv5.8.2//NONSGML v1.0//EN
CALSCALE:GREGORIAN
METHOD:PUBLISH
X-WR-CALNAME:Nottingham Linux Users Group
X-ORIGINAL-URL:https://nlug.ml1.co.uk
X-WR-CALDESC:Events for Nottingham Linux Users Group
BEGIN:VTIMEZONE
TZID:Europe/London
BEGIN:DAYLIGHT
TZOFFSETFROM:+0000
TZOFFSETTO:+0100
TZNAME:BST
DTSTART:20160327T010000
END:DAYLIGHT
BEGIN:STANDARD
TZOFFSETFROM:+0100
TZOFFSETTO:+0000
TZNAME:GMT
DTSTART:20161030T010000
END:STANDARD
END:VTIMEZONE
BEGIN:VEVENT
DTSTART;TZID=Europe/London:20160505T193000
DTEND;TZID=Europe/London:20160505T230000
DTSTAMP:20260426T021332
CREATED:20160330T211843Z
LAST-MODIFIED:20160503T121131Z
UID:5164-1462476600-1462489200@nlug.ml1.co.uk
SUMMARY:Savai Past The Newshouse
DESCRIPTION:Still good\, and too long forsaken\, this week’s social delight wanders over to a far flung long neglected corner to dash past the BBC webcam at: \n  \n \n7:30pm Thursday 05/05/2016 \nMeet in the Newshouse on Canal Street for rustic charm and to enjoy a good selection of real ales: \nNewshouse\n123 Canal Street\nNottingham NG1 7HB\nTel: 0115 9523061 \nOpenStreetMap\n  \nTo thence wander along 8pm to the “BBC roundabout” to eat Italian style at Savai: \nSavai Italian Restaurant and Pizzeria\nPlumtre House\n5 Poplar Street\nNottingham\, NG1 1GP\nTel: 0115 9586828 \nSavai directions\nWe then congregate again for further news and beer later 🙂 \n  \nAll welcome\, \nEnjoy the sunshine and see ya there! \nCheers\,\nMartin
URL:https://nlug.ml1.co.uk/event/savai-past-the-newshouse-2
LOCATION:Newshouse\, 123 Canal Street\, Nottingham\, Nottinghamshire\, NG1 7HB\, United Kingdom
CATEGORIES:Socials
END:VEVENT
END:VCALENDAR