BEGIN:VCALENDAR
VERSION:2.0
PRODID:-//Nottingham Linux Users Group - ECPv5.8.2//NONSGML v1.0//EN
CALSCALE:GREGORIAN
METHOD:PUBLISH
X-WR-CALNAME:Nottingham Linux Users Group
X-ORIGINAL-URL:https://nlug.ml1.co.uk
X-WR-CALDESC:Events for Nottingham Linux Users Group
BEGIN:VTIMEZONE
TZID:Europe/London
BEGIN:DAYLIGHT
TZOFFSETFROM:+0000
TZOFFSETTO:+0100
TZNAME:BST
DTSTART:20130331T010000
END:DAYLIGHT
BEGIN:STANDARD
TZOFFSETFROM:+0100
TZOFFSETTO:+0000
TZNAME:GMT
DTSTART:20131027T010000
END:STANDARD
END:VTIMEZONE
BEGIN:VEVENT
DTSTART;TZID=Europe/London:20130311T190000
DTEND;TZID=Europe/London:20130311T210000
DTSTAMP:20260424T214156
CREATED:20130213T170154Z
LAST-MODIFIED:20130225T030413Z
UID:3935-1363028400-1363035600@nlug.ml1.co.uk
SUMMARY:rms - Copyright vs. Community
DESCRIPTION:Nottingham GNU/Linux User Group\nLeicester GNU/Linux User Group\nand \nThe University of Nottingham\nThe University of Nottingham Computer Science Society\nproudly present \n  \nDr Richard Stallman\nCopyright vs. Community in the Age of Computer Networks\nMonday 11th March 7:00pm to 9:00pm \n \n  \nThis is a non-technical talk by the founder of the Free Software Foundation. \nRichard Stallman is one of the most influential speakers on the topics of Digital Freedoms and Free Software. If you don’t know who “rms” is\, or the significance of those initials in lowercase\, or even what GNU might be\,  then you definitely should come along! \nPlease book on the FSF website to reserve a space if you definitely know that you will come along. Please also consider adding your email to the FSF events maillist there for any other future events nearby. \n(Talks by rms normally attract many hundreds of attendees\, so best check now to gain a place.) \n  \nMonday 11th March 7:00pm to 9:00pm\, at: \nRoom B52\, Business School South\nThe University of Nottingham\nJubilee Campus\nWollaton Road\nNottingham\, NG8 1BB \nOpenStreetMap\nRoad\, rail and bus directions are given here. The talk is in the Business School South Building\, “7” on this campus map (pdf). Please enter at the main entrance on the north side of the building. There is campus pay-and-display parking available free of cost for the evening. \n  \nGuaranteed to be a good talk and fundamental for all our freedoms. \nCheers\,\nMartin \nThis event is about freedoms and is also free of cost. On the day\, we will welcome any donations to the FSF. \n  \n \n 
URL:https://nlug.ml1.co.uk/event/rms-copyright-vs-community
LOCATION:Room B52\, Business School South\, The University of Nottingham Jubilee Campus\, Wollaton Road\, Nottingham\, NG8 1BB\, United Kingdom
CATEGORIES:Talks
END:VEVENT
END:VCALENDAR