BEGIN:VCALENDAR
VERSION:2.0
PRODID:-//Nottingham Linux Users Group - ECPv5.8.2//NONSGML v1.0//EN
CALSCALE:GREGORIAN
METHOD:PUBLISH
X-WR-CALNAME:Nottingham Linux Users Group
X-ORIGINAL-URL:https://nlug.ml1.co.uk
X-WR-CALDESC:Events for Nottingham Linux Users Group
BEGIN:VTIMEZONE
TZID:Europe/London
BEGIN:DAYLIGHT
TZOFFSETFROM:+0000
TZOFFSETTO:+0100
TZNAME:BST
DTSTART:20160327T010000
END:DAYLIGHT
BEGIN:STANDARD
TZOFFSETFROM:+0100
TZOFFSETTO:+0000
TZNAME:GMT
DTSTART:20161030T010000
END:STANDARD
END:VTIMEZONE
BEGIN:VEVENT
DTSTART;TZID=Europe/London:20161117T200000
DTEND;TZID=Europe/London:20161117T210000
DTSTAMP:20260425T042103
CREATED:20161117T143734Z
LAST-MODIFIED:20161117T161523Z
UID:5452-1479412800-1479416400@nlug.ml1.co.uk
SUMMARY:Qubes OS/Distro Demonstration
DESCRIPTION:  \nTo start the evening talks\, we have at 8pm Vadim giving a demonstration and Q&A of Qubes: \n\nWikipedia: Qubes OS – a security-focused desktop operating system heavily utilizing virtualization\nQubes main site: An Introduction to Qubes OS\n\nAll welcome! 🙂 \nJust look for the penguins huddled around our own cyberspace!! 😉 (Or ask the friendly bar staff.) \n(Follow-on talk is at 9pm.) \n 
URL:https://nlug.ml1.co.uk/event/qubes-osdistro-demonstration
LOCATION:The Organ Grinder\, 21 Alfreton Road\, Canning Circus\, Nottingham\, NG7 3JE\, United Kingdom
CATEGORIES:Talks
END:VEVENT
END:VCALENDAR