BEGIN:VCALENDAR
VERSION:2.0
PRODID:-//Nottingham Linux Users Group - ECPv5.8.2//NONSGML v1.0//EN
CALSCALE:GREGORIAN
METHOD:PUBLISH
X-WR-CALNAME:Nottingham Linux Users Group
X-ORIGINAL-URL:https://nlug.ml1.co.uk
X-WR-CALDESC:Events for Nottingham Linux Users Group
BEGIN:VTIMEZONE
TZID:Europe/London
BEGIN:DAYLIGHT
TZOFFSETFROM:+0000
TZOFFSETTO:+0100
TZNAME:BST
DTSTART:20130331T010000
END:DAYLIGHT
BEGIN:STANDARD
TZOFFSETFROM:+0100
TZOFFSETTO:+0000
TZNAME:GMT
DTSTART:20131027T010000
END:STANDARD
END:VTIMEZONE
BEGIN:VEVENT
DTSTART;TZID=Europe/London:20130416T193000
DTEND;TZID=Europe/London:20130416T230000
DTSTAMP:20260424T200711
CREATED:20130414T232001Z
LAST-MODIFIED:20130430T163316Z
UID:3996-1366140600-1366153200@nlug.ml1.co.uk
SUMMARY:Post Yiannis
DESCRIPTION:Folks\, \nFor a new Greek variation on the far western frontier of Nottingham amidst the pre-metropolis Armageddon of tram workings\, to catch The Last Post\, and address the newly opened delight of Yiannis\, we voyage onwards: \n  \n7:30pm meet at our usual Beeston haunt of: \nThe Last Post\nChilwell Road\nBeeston\nNottinghamshire NG9 1AA \nPhone: 0115 9683100 \nOpenStreetMap\n  \nTo then follow Jason as we Argonaut on a northerly heading to an 8pm anchorage at: \n \nYiannis Beeston Restaurant\n132 Wollaton Road\nBeeston\nNottinghamshire NG9 2PE \nPhone: 0115 9229475 \nOpenStreetMap\n  \nThence\, whenever later\, we may well be oncemore lost in The Last Post… \n🙂 \n  \nAll welcome. \nNewcomers please let us know on the maillist to expect you. As usual\, just look out for the high tech and Linux mags! \nCheers\,\nMartin \n 
URL:https://nlug.ml1.co.uk/event/post-yiannis
LOCATION:The Last Post\, Chilwell Road\, Beeston\, Nottingham\, NG9 1AA\, United Kingdom
CATEGORIES:Socials
END:VEVENT
END:VCALENDAR