BEGIN:VCALENDAR
VERSION:2.0
PRODID:-//Nottingham Linux Users Group - ECPv5.8.2//NONSGML v1.0//EN
CALSCALE:GREGORIAN
METHOD:PUBLISH
X-WR-CALNAME:Nottingham Linux Users Group
X-ORIGINAL-URL:https://nlug.ml1.co.uk
X-WR-CALDESC:Events for Nottingham Linux Users Group
BEGIN:VTIMEZONE
TZID:Europe/London
BEGIN:DAYLIGHT
TZOFFSETFROM:+0000
TZOFFSETTO:+0100
TZNAME:BST
DTSTART:20120325T010000
END:DAYLIGHT
BEGIN:STANDARD
TZOFFSETFROM:+0100
TZOFFSETTO:+0000
TZNAME:GMT
DTSTART:20121028T010000
END:STANDARD
END:VTIMEZONE
BEGIN:VEVENT
DTSTART;TZID=Europe/London:20120620T193000
DTEND;TZID=Europe/London:20120620T230059
DTSTAMP:20260425T120042
CREATED:20120530T135844Z
LAST-MODIFIED:20120607T131808Z
UID:3203-1340220600-1340233259@nlug.ml1.co.uk
SUMMARY:Organ Grinding a Shabab
DESCRIPTION:For this month’s social\, we adventure to a high point in the city to try a newly recommended pub: \n7:30pm\nOrgan Grinder \nand then onwards to an old favorite and excellent wood paneled Pakistani restaurant: \n8:30pm\nShabab Nan Kebab\n6 Radford Road\,\nHyson Green\,\nNottingham NG7 5FS \nTelephone: 0115 9781696\nOpenStreetMap\nThat place is a Bring-Your-Own if you want any alcoholic drinks. Depending on the phase of the religious year\, you may need to take out the empties yourself also! \n  \nAll welcome\, \nCheers\,\nMartin
URL:https://nlug.ml1.co.uk/event/organ-grinding-a-shabab
LOCATION:The Organ Grinder\, 21 Alfreton Road\, Canning Circus\, Nottingham\, NG7 3JE\, United Kingdom
CATEGORIES:Socials
END:VEVENT
END:VCALENDAR