BEGIN:VCALENDAR
VERSION:2.0
PRODID:-//Nottingham Linux Users Group - ECPv5.8.2//NONSGML v1.0//EN
CALSCALE:GREGORIAN
METHOD:PUBLISH
X-WR-CALNAME:Nottingham Linux Users Group
X-ORIGINAL-URL:https://nlug.ml1.co.uk
X-WR-CALDESC:Events for Nottingham Linux Users Group
BEGIN:VTIMEZONE
TZID:Europe/London
BEGIN:DAYLIGHT
TZOFFSETFROM:+0000
TZOFFSETTO:+0100
TZNAME:BST
DTSTART:20160327T010000
END:DAYLIGHT
BEGIN:STANDARD
TZOFFSETFROM:+0100
TZOFFSETTO:+0000
TZNAME:GMT
DTSTART:20161030T010000
END:STANDARD
END:VTIMEZONE
BEGIN:VEVENT
DTSTART;TZID=Europe/London:20160802T193000
DTEND;TZID=Europe/London:20160802T220000
DTSTAMP:20260425T211636
CREATED:20160630T000102Z
LAST-MODIFIED:20160707T111903Z
UID:5270-1470166200-1470175200@nlug.ml1.co.uk
SUMMARY:NSITP - The Thrilling Adventures of Lovelace & Babbage
DESCRIPTION:Folks\, \nThis looks to be a good and apt enthusiastic talk by one of our neighboring groups: \nThe Thrilling Adventures of Lovelace & Babbage \nOne hundred years before the first computers were built out of wires and transistors\, the Victorian polymath Charles Babbage designed a gigantic steam-powered\, punchcard-programmed\, cogwheel computer\, the Analytical Engine.  His friend Ada\, Countess of Lovelace\, daughter of Lord Byron\, completed some of the first programs for the machine\, and theorised that one day it could be used for the manipulation of any kind of information. Unfortunately Ada died young and Babbage never built his Engine\, leaving their story as one of the greatest what-ifs in the history of science. \nSydney Padua’s cult webcomic The Thrilling Adventures of Lovelace and Babbage\, now a bestselling graphic novel\, combines extensive research with alternate-universe comic-book escapes\, where the mechanical computer is finally completed… \n  \nDaryl\, the race is on! 😉 \n  \nNote: This talk is by the Nottingham Skeptics at their venue. Please see their site for details.
URL:https://nlug.ml1.co.uk/event/nsitp-the-thrilling-adventures-of-lovelace-babbage
LOCATION:The Canalhouse\, 48-52 Canal Street\, Nottingham\, NG1 7EH\, United Kingdom
CATEGORIES:Talks
END:VEVENT
END:VCALENDAR