BEGIN:VCALENDAR
VERSION:2.0
PRODID:-//Nottingham Linux Users Group - ECPv5.8.2//NONSGML v1.0//EN
CALSCALE:GREGORIAN
METHOD:PUBLISH
X-WR-CALNAME:Nottingham Linux Users Group
X-ORIGINAL-URL:https://nlug.ml1.co.uk
X-WR-CALDESC:Events for Nottingham Linux Users Group
BEGIN:VTIMEZONE
TZID:Europe/London
BEGIN:DAYLIGHT
TZOFFSETFROM:+0000
TZOFFSETTO:+0100
TZNAME:BST
DTSTART:20120325T010000
END:DAYLIGHT
BEGIN:STANDARD
TZOFFSETFROM:+0100
TZOFFSETTO:+0000
TZNAME:GMT
DTSTART:20121028T010000
END:STANDARD
END:VTIMEZONE
BEGIN:VEVENT
DTSTART;TZID=Europe/London:20120104T193000
DTEND;TZID=Europe/London:20120104T230059
DTSTAMP:20260426T004359
CREATED:20111228T103733Z
LAST-MODIFIED:20111230T163949Z
UID:814-1325705400-1325718059@nlug.ml1.co.uk
SUMMARY:Linux: What Next?
DESCRIPTION:For those with a long history\, or those otherwise widely versed in all OSes\, no this is not about NeXT 😉 But that is a good reminder that there is a lot more than just “Linux” out there in the cybersphere… \n  \nAlso\, a lot can happen… \n  \n \nHere we share a few Linux stories and try to gaze through the mists of future time to see if we can guess what next for at least this year and the next. Do we know enough of our Linux world to see what next?… On-the-night on-the-fly comment and discussion welcomed! \n  \nAll at our usual venue: \nFellows Morton and Clayton\n54 Canal Street\nNottingham\, NG1 7EH\nTelephone: 0115 9506795\nTo find us\, go through to the back of the pub and we’re up the spiral staircase in the restaurant. Just ask one of the friendly bar staff for NLUG if lost. \nFood is also served through into the evening. \n  \nWednesday 04/01/2012: \n\n7:30pm: Meet\n8:00pm: Talk\n9:00pm: General discussions\n\nAll welcome! \n  \n(Depending on how busy or not the pub may be\, we may remain in a comfy area by the main bar. Just look for the Linux mags and high-tech gear.) \nCheers\,\nMartin
URL:https://nlug.ml1.co.uk/event/linux-what-next
LOCATION:Fellows Morton and Clayton\, 54 Canal Street\, Nottingham\, NG1 7EH\, United Kingdom
CATEGORIES:Talks
END:VEVENT
END:VCALENDAR