BEGIN:VCALENDAR
VERSION:2.0
PRODID:-//Nottingham Linux Users Group - ECPv5.8.2//NONSGML v1.0//EN
CALSCALE:GREGORIAN
METHOD:PUBLISH
X-WR-CALNAME:Nottingham Linux Users Group
X-ORIGINAL-URL:https://nlug.ml1.co.uk
X-WR-CALDESC:Events for Nottingham Linux Users Group
BEGIN:VTIMEZONE
TZID:Europe/London
BEGIN:DAYLIGHT
TZOFFSETFROM:+0000
TZOFFSETTO:+0100
TZNAME:BST
DTSTART:20130331T010000
END:DAYLIGHT
BEGIN:STANDARD
TZOFFSETFROM:+0100
TZOFFSETTO:+0000
TZNAME:GMT
DTSTART:20131027T010000
END:STANDARD
END:VTIMEZONE
BEGIN:VEVENT
DTSTART;TZID=Europe/London:20130319T193000
DTEND;TZID=Europe/London:20130319T230000
DTSTAMP:20260424T201208
CREATED:20130316T215741Z
LAST-MODIFIED:20130316T222952Z
UID:3984-1363721400-1363734000@nlug.ml1.co.uk
SUMMARY:Jerusalem Cumin Hot
DESCRIPTION:Folks\, \n(Note the new meetup day of Tuesday!) \nOne to warm to for these few days of frigid Baltic blast with a warm old favorite and a new hot place nearby… \n  \n7:30pm to sample subterranean warmth and beer: \nYe Olde Trip to Jerusalem\n1 Brewhouse Yard\nNottingham\, NG1 6AD \nPhone: 0115 9473171\nOpenStreetMap\nFollowed 8pm by something tasty Indian style: \n \nThe Cumin Restaurant\n62 – 64 Maid Marian Way\nNottingham\, NG1 6BJ \nPhone: 0115 9419941\nOpenStreetMap\nLikely\, we’ll return to ‘The Trip’ for a further beer later. \n  \nLet us know you are coming or just look out for the fun geekery and Linux mags 😉 \nAll welcome! \nCheers\,\nMartin
URL:https://nlug.ml1.co.uk/event/jerusalem-cumin-hot
LOCATION:Ye Olde Trip to Jerusalem\, 1 Brewhouse Yard\, Nottingham\, NG1 6AD\, United Kingdom
CATEGORIES:Socials
END:VEVENT
END:VCALENDAR