BEGIN:VCALENDAR
VERSION:2.0
PRODID:-//Nottingham Linux Users Group - ECPv5.8.2//NONSGML v1.0//EN
CALSCALE:GREGORIAN
METHOD:PUBLISH
X-WR-CALNAME:Nottingham Linux Users Group
X-ORIGINAL-URL:https://nlug.ml1.co.uk
X-WR-CALDESC:Events for Nottingham Linux Users Group
BEGIN:VTIMEZONE
TZID:Europe/London
BEGIN:DAYLIGHT
TZOFFSETFROM:+0000
TZOFFSETTO:+0100
TZNAME:BST
DTSTART:20160327T010000
END:DAYLIGHT
BEGIN:STANDARD
TZOFFSETFROM:+0100
TZOFFSETTO:+0000
TZNAME:GMT
DTSTART:20161030T010000
END:STANDARD
END:VTIMEZONE
BEGIN:VEVENT
DTSTART;TZID=Europe/London:20160721T193000
DTEND;TZID=Europe/London:20160721T230000
DTSTAMP:20260426T005229
CREATED:20160301T002509Z
LAST-MODIFIED:20160721T140043Z
UID:5128-1469129400-1469142000@nlug.ml1.co.uk
SUMMARY:Fun Stuff on the Linux Command Line
DESCRIPTION:Folks\, \nWe have been a long time to roll round to this topic again. Nothing as long as the 40 years to see the Apollo 11 code! Still rather a long time ago to before this incarnation of our website for our old bash tricks talk\, and still long ago to Script-abulous! \nAnd so without further ado: What can we do on the command-line in the world of text alone? \nRoll along to see and hear how the world of the command-line has never been far under the surface of whatever GUI or VR… \n \n  \nAll at our usual 7:30pm Organ Grinder venue. \n(We are the easily identifiable group with electronics and penguins somewhere near a power supply. We may move up to the function room if things get busy. Just ask the friendly bar staff!) \nAll welcome 🙂 \nAll including coders and spectators and all new alike! \n  \nNote that our talks are quite informal and on this occasion\, we will likely be demonstrating our usual gadgets of geekery. All are welcome to bring along their devices to play 🙂 \n  \nTalk Notes\nSee on the NLUG links page for: \n\nGeneral Programming and Development\nGeneral Utilities and Shortcuts\n\nfor a good starter on what is available and what can be done… \nLet me know please for any others or anything else helpful/useful or just quirky interesting!
URL:https://nlug.ml1.co.uk/event/fun-stuff-on-the-linux-command-line
LOCATION:The Organ Grinder\, 21 Alfreton Road\, Canning Circus\, Nottingham\, NG7 3JE\, United Kingdom
CATEGORIES:Talks
END:VEVENT
END:VCALENDAR