BEGIN:VCALENDAR
VERSION:2.0
PRODID:-//Nottingham Linux Users Group - ECPv5.8.2//NONSGML v1.0//EN
CALSCALE:GREGORIAN
METHOD:PUBLISH
X-WR-CALNAME:Nottingham Linux Users Group
X-ORIGINAL-URL:https://nlug.ml1.co.uk
X-WR-CALDESC:Events for Nottingham Linux Users Group
BEGIN:VTIMEZONE
TZID:Europe/London
BEGIN:DAYLIGHT
TZOFFSETFROM:+0000
TZOFFSETTO:+0100
TZNAME:BST
DTSTART:20110327T010000
END:DAYLIGHT
BEGIN:STANDARD
TZOFFSETFROM:+0100
TZOFFSETTO:+0000
TZNAME:GMT
DTSTART:20111030T010000
END:STANDARD
END:VTIMEZONE
BEGIN:VEVENT
DTSTART;TZID=Europe/London:20110824T190000
DTEND;TZID=Europe/London:20110824T213000
DTSTAMP:20260425T171207
CREATED:20110719T151746Z
LAST-MODIFIED:20110719T155809Z
UID:414-1314212400-1314221400@nlug.ml1.co.uk
SUMMARY:Free Software for Your Freedom
DESCRIPTION:Nottingham Gnu/Linux User Group\n\nand Nottingham University Compsoc\n\nin association with Nottingham Hackspace \n  \npresent \n  \nRichard Stallman \nFree Software for Your Freedom \n  \nA non-technical talk by the founder of the Free Software Foundation.\n\nRichard Stallman is one of the most influential speakers on the topics of Digital Freedoms and Free Software.\n\nIf you don’t know who “rms” is\, then you definitely should come along! We’ve got very limited space with seating for just 80 people…\n\nBooking is on Eventbrite: \nRichard Stallman: Free Software for Your Freedom \nPlease book to reserve a space if you definitely know that you will come along.\n\n(Talks by rms normally attract many hundreds of attendees\, so best check now to gain a place.)\n\nGuaranteed to be a good talk and fundamental for all our freedoms. \n  \nA map and detailed directions to the Nottingham Hackspace are given here. \n  \nCheers\,\nMartin \n  \nThis event is about freedoms and is also free of cost. Nottingham Hackspace are kindly sponsoring the event with their venue. On the night\, we will welcome any donations to cover expenses for the event and to donate directly to the FSF and rms.
URL:https://nlug.ml1.co.uk/event/free-software-for-your-freedom
LOCATION:Nottinghack Hackspace\, Unit F6 BizSpace\, Roden House Business Centre\, Nottingham\, Nottinghamshire\, NG3 1JH\, United Kingdom
CATEGORIES:Talks
END:VEVENT
END:VCALENDAR