BEGIN:VCALENDAR
VERSION:2.0
PRODID:-//Nottingham Linux Users Group - ECPv5.8.2//NONSGML v1.0//EN
CALSCALE:GREGORIAN
METHOD:PUBLISH
X-WR-CALNAME:Nottingham Linux Users Group
X-ORIGINAL-URL:https://nlug.ml1.co.uk
X-WR-CALDESC:Events for Nottingham Linux Users Group
BEGIN:VTIMEZONE
TZID:Europe/London
BEGIN:DAYLIGHT
TZOFFSETFROM:+0000
TZOFFSETTO:+0100
TZNAME:BST
DTSTART:20160327T010000
END:DAYLIGHT
BEGIN:STANDARD
TZOFFSETFROM:+0100
TZOFFSETTO:+0000
TZNAME:GMT
DTSTART:20161030T010000
END:STANDARD
END:VTIMEZONE
BEGIN:VEVENT
DTSTART;TZID=Europe/London:20160616T193000
DTEND;TZID=Europe/London:20160616T230000
DTSTAMP:20260426T022826
CREATED:20160301T002258Z
LAST-MODIFIED:20160616T175409Z
UID:5127-1466105400-1466118000@nlug.ml1.co.uk
SUMMARY:Ever Widening Adoption of Open Source Ways
DESCRIPTION:For our adventures across ideas and ideals tonight\, we have: \n\nIs it “OSS”\, “FOSS”\, “FLOSS”\, “F/LOSS”\, “F/L-OSS”\, or “copyleft”?\nOr the complete freedom of the “commons” or the “Public Domain”?\nWhat do we mean by being “open” or “open source”?\nWhat else might be meant?\n\nBut regardless of all the surrounding jargon\, does all this “openness” stuff work? Usefully? \n  \nIn our strange times of ‘Brexit‘ and extreme-capitalism and Dawkins’ “Selfish Gene“\, and a little Zen: \n \nPlease come along to share some open ideas and happenings for how various areas in and far beyond the world of IT are being made cooperatively better\, for something better for everyone all around. \n  \nAll at our usual 7:30pm Organ Grinder venue. \n(We are the easily identifiable group with electronics and penguins somewhere near a power supply. We may move up to the function room if things get busy. Just ask the friendly bar staff!) \nAll welcome 🙂 \nTalk notes\nSome key example links are: \n\nWikipedia: Free and open-source software\nopensource.com: New glossary [of] common open source related terms\nopensource.com: 6 motivations for consuming or publishing open source software\nZDNet: Why Microsoft loves Linux\nLinuxInsider: Linux Foundation’s Open Source R&D Worth $5B\nopensource.com: Hacking the farm with low-cost\, open source tool designs\nFierce Medical Devices: Open-science nonprofit trots out promising data from study of iPhone app for Parkinson’s\nQuartz: How to access a million stunning\, copyright-free antique illustrations released by the British Library\nopensource.com: Rebuilding Ecuador’s economy with open source principles\nTechCrunch: Scientist Is Using Open Sourced Software Techniques To Turn Bugs Into Patent-Free Drugs – Chemist and “semi-recreational” codemonkey Isaac Yonemoto is running a crowdfunding campaign called Project Marilyn to create open sourced\, patent-free cancer drugs.\nThe Baltimore Sun: New strategy would drop college textbook costs to zero … “open-source” electronic textbooks…\nInstitute for Ethics and Emerging Technologies: The Social Fabric of a Technically Advanced Society\nopensource.com: What makes your developers stick around? – “There is so much human potential. I see it everywhere… Currently our currency is greed\, at any cost. Technology is only pursued if there’s profit and thus most people do not benefit from the revelations we’ve made. Our innovation is being held captive by greedy\, small\, fearful minds and the systems to which they cling. To move forward and truly become a technically advanced society\, we must change the story of our lives from competition to collaboration…”\n\nAnd there is BrewDog Went FLOSS! \n… And lots more! Phew!! 🙂
URL:https://nlug.ml1.co.uk/event/ever-widening-adoption-of-open-source-ways
LOCATION:The Organ Grinder\, 21 Alfreton Road\, Canning Circus\, Nottingham\, NG7 3JE\, United Kingdom
CATEGORIES:Talks
END:VEVENT
END:VCALENDAR