BEGIN:VCALENDAR
VERSION:2.0
PRODID:-//Nottingham Linux Users Group - ECPv5.8.2//NONSGML v1.0//EN
CALSCALE:GREGORIAN
METHOD:PUBLISH
X-WR-CALNAME:Nottingham Linux Users Group
X-ORIGINAL-URL:https://nlug.ml1.co.uk
X-WR-CALDESC:Events for Nottingham Linux Users Group
BEGIN:VTIMEZONE
TZID:Europe/London
BEGIN:DAYLIGHT
TZOFFSETFROM:+0000
TZOFFSETTO:+0100
TZNAME:BST
DTSTART:20120325T010000
END:DAYLIGHT
BEGIN:STANDARD
TZOFFSETFROM:+0100
TZOFFSETTO:+0000
TZNAME:GMT
DTSTART:20121028T010000
END:STANDARD
END:VTIMEZONE
BEGIN:VEVENT
DTSTART;TZID=Europe/London:20120404T193000
DTEND;TZID=Europe/London:20120404T230059
DTSTAMP:20260425T032755
CREATED:20120327T215623Z
LAST-MODIFIED:20120525T115818Z
UID:2149-1333567800-1333580459@nlug.ml1.co.uk
SUMMARY:Cryptically Yours Sincerely - Digital Signing
DESCRIPTION:Folks\, \nHow can you indelibly sign an email? \nHow can someone know you are really ‘you’ for whatever name you might be known as? \nAnd what is “Key Signing” anyway? \nAnyone noticed the GPG in the room?… \nAnd why should anyone bother? (Especially so with the old-tech bits of paper and photographs trick…) \n  \nAll is to be decrypted for your fun enlightenment and entertainment\, all at: \nOur usual real-world venue: \nFellows Morton and Clayton\n54 Canal Street\nNottingham\, NG1 7EH\nTelephone: 0115 9506795 \nFood is also served up until 8pm. \nNormally we’re up the back\, but we may be sat in the (warm) lower bar area. Just look for the freaks with the Linux mags and gadgets \nWednesday 04/04/2012: \n\n7:30pm: Meet\n8:00pm+ ?: Talks/Questions\n\nAll welcome! \n  \nCheers\,\nMartin
URL:https://nlug.ml1.co.uk/event/cryptically-yours-sincerely-digital-signing
LOCATION:Fellows Morton and Clayton\, 54 Canal Street\, Nottingham\, NG1 7EH\, United Kingdom
CATEGORIES:Talks
END:VEVENT
END:VCALENDAR