BEGIN:VCALENDAR
VERSION:2.0
PRODID:-//Nottingham Linux Users Group - ECPv5.8.2//NONSGML v1.0//EN
CALSCALE:GREGORIAN
METHOD:PUBLISH
X-WR-CALNAME:Nottingham Linux Users Group
X-ORIGINAL-URL:https://nlug.ml1.co.uk
X-WR-CALDESC:Events for Nottingham Linux Users Group
BEGIN:VTIMEZONE
TZID:Europe/London
BEGIN:DAYLIGHT
TZOFFSETFROM:+0000
TZOFFSETTO:+0100
TZNAME:BST
DTSTART:20170326T010000
END:DAYLIGHT
BEGIN:STANDARD
TZOFFSETFROM:+0100
TZOFFSETTO:+0000
TZNAME:GMT
DTSTART:20171029T010000
END:STANDARD
END:VTIMEZONE
BEGIN:VEVENT
DTSTART;TZID=Europe/London:20170302T193000
DTEND;TZID=Europe/London:20170302T233000
DTSTAMP:20260425T163622
CREATED:20170224T151505Z
LAST-MODIFIED:20170224T151505Z
UID:5583-1488483000-1488497400@nlug.ml1.co.uk
SUMMARY:Cheese it to the Poacher
DESCRIPTION:This month’s social will be at the fine establishment of the Lincolnshire Poacher. No need to move on as they serve fine food right on the premises.
URL:https://nlug.ml1.co.uk/event/cheese-it-to-the-poacher
LOCATION:Linolnshire Poacher\, 161-163 Mansfield Road\, Nottingham\, Nottinghamshire\, NG1 3FR\, United Kingdom
CATEGORIES:Socials
END:VEVENT
END:VCALENDAR