BEGIN:VCALENDAR
VERSION:2.0
PRODID:-//Nottingham Linux Users Group - ECPv5.8.2//NONSGML v1.0//EN
CALSCALE:GREGORIAN
METHOD:PUBLISH
X-WR-CALNAME:Nottingham Linux Users Group
X-ORIGINAL-URL:https://nlug.ml1.co.uk
X-WR-CALDESC:Events for Nottingham Linux Users Group
BEGIN:VTIMEZONE
TZID:Europe/London
BEGIN:DAYLIGHT
TZOFFSETFROM:+0000
TZOFFSETTO:+0100
TZNAME:BST
DTSTART:20190331T010000
END:DAYLIGHT
BEGIN:STANDARD
TZOFFSETFROM:+0100
TZOFFSETTO:+0000
TZNAME:GMT
DTSTART:20191027T010000
END:STANDARD
END:VTIMEZONE
BEGIN:VEVENT
DTSTART;TZID=Europe/London:20190905T193000
DTEND;TZID=Europe/London:20190905T230000
DTSTAMP:20260426T040706
CREATED:20190904T134657Z
LAST-MODIFIED:20190904T134657Z
UID:9841-1567711800-1567724400@nlug.ml1.co.uk
SUMMARY:Cheese it to the Poacher
DESCRIPTION:Folks\, \nHas it really been this long since we last went Poaching?! \nHence\, without further ado for such a long forsaken fine establishment\, we have from long ago: \nThis month’s social will be at the fine establishment of the Lincolnshire Poacher. No need to move on as they serve fine food right on the premises. \n  \n \nUsual 7:30pm start at the: \n  \n\nLincolnshire Poacher \n161-163 Mansfield Road\nNottingham NG1 3FR \nPhone: 0115 9411584\nOpenStreetMap – Lincolnshire Poacher\n\n  \nWe have a table round the back in The Conservatory. \nAnd we’ll be staying there for their fine food and ale 🙂 \n  \nAll welcome 🙂 \nJust look out for the geeks 😉 \nSee ya there! \nCheers\,\nMartin
URL:https://nlug.ml1.co.uk/event/cheese-it-to-the-poacher-2
LOCATION:Linolnshire Poacher\, 161-163 Mansfield Road\, Nottingham\, Nottinghamshire\, NG1 3FR\, United Kingdom
CATEGORIES:Socials
END:VEVENT
END:VCALENDAR