BEGIN:VCALENDAR
VERSION:2.0
PRODID:-//Nottingham Linux Users Group - ECPv5.8.2//NONSGML v1.0//EN
CALSCALE:GREGORIAN
METHOD:PUBLISH
X-WR-CALNAME:Nottingham Linux Users Group
X-ORIGINAL-URL:https://nlug.ml1.co.uk
X-WR-CALDESC:Events for Nottingham Linux Users Group
BEGIN:VTIMEZONE
TZID:Europe/London
BEGIN:DAYLIGHT
TZOFFSETFROM:+0000
TZOFFSETTO:+0100
TZNAME:BST
DTSTART:20130331T010000
END:DAYLIGHT
BEGIN:STANDARD
TZOFFSETFROM:+0100
TZOFFSETTO:+0000
TZNAME:GMT
DTSTART:20131027T010000
END:STANDARD
END:VTIMEZONE
BEGIN:VEVENT
DTSTART;TZID=Europe/London:20130513T200000
DTEND;TZID=Europe/London:20130513T230000
DTSTAMP:20260424T231737
CREATED:20130511T184425Z
LAST-MODIFIED:20130511T185609Z
UID:4083-1368475200-1368486000@nlug.ml1.co.uk
SUMMARY:Cafe Sci: Alan Turing - The Building of a Brain
DESCRIPTION:From the “Nottingham Café Scientifique and Culturel” nearby\, this should be of interest to anyone and everyone involved in computers and computing. All the more so for another view for part of what we saw on our Bletchley Park visit last year… \nFrom their “meetup” page: \nCafe Sci: Alan Turing – The Building of a Brain \nProfessor Barry Cooper \nSchool of Mathematics – University of Leeds \n2012 saw the 100th anniversary of the birth of Alan Turing – mathematician\, Bletchley Park decoding genius\, father of computer science\, and seminal figure in artificial intelligence and developmental biology. Celebrations of the Turing centenary continue around the world\, with over 40 countries holding special events\, coordinated by a committee chaired by our speaker. \nAlan Turing was only 41 a the time of his mysterious death in Manchester in 1954\, which makes the extent of his legacy doubly amazing. Every stored-program computer today is an embodiment of his 1936 Universal Turing Machine. Turing was specially driven by a need to understand the human brain and mental processes. Involved in building early computers in the 1940s\, he is quoted as saying “I am building a brain”. But Turing’s own investigations\, and the later history of artificial intelligence\, have led to a much better understanding of the challenges.  \nIt’s at The Lord Roberts Pub (see OpenStreetMap). Please see their event page for further details. \n(This is not an NLUG event!) \nHope of interest\, \nCheers\,\nMartin
URL:https://nlug.ml1.co.uk/event/cafe-sci-alan-turing-the-building-of-a-brain
LOCATION:The Lord Roberts Pub\, 24 Broad Street \, Nottingham\, NG1 3AN\, United Kingdom
CATEGORIES:General Events
END:VEVENT
END:VCALENDAR