BEGIN:VCALENDAR
VERSION:2.0
PRODID:-//Nottingham Linux Users Group - ECPv5.8.2//NONSGML v1.0//EN
CALSCALE:GREGORIAN
METHOD:PUBLISH
X-WR-CALNAME:Nottingham Linux Users Group
X-ORIGINAL-URL:https://nlug.ml1.co.uk
X-WR-CALDESC:Events for Nottingham Linux Users Group
BEGIN:VTIMEZONE
TZID:Europe/London
BEGIN:DAYLIGHT
TZOFFSETFROM:+0000
TZOFFSETTO:+0100
TZNAME:BST
DTSTART:20170326T010000
END:DAYLIGHT
BEGIN:STANDARD
TZOFFSETFROM:+0100
TZOFFSETTO:+0000
TZNAME:GMT
DTSTART:20171029T010000
END:STANDARD
END:VTIMEZONE
BEGIN:VEVENT
DTSTART;TZID=Europe/London:20170406T193000
DTEND;TZID=Europe/London:20170406T230000
DTSTAMP:20260426T005351
CREATED:20170404T124331Z
LAST-MODIFIED:20170404T124426Z
UID:9104-1491507000-1491519600@nlug.ml1.co.uk
SUMMARY:Brew Dog Kayal
DESCRIPTION:Folks\, \nIn our new times of new politics and Brexit\, now is the time to try new brews and more of our multinational ways! 😛 \n  \nFor our social we have a good mix of 7:30pm testing/tasting alternative brews\, also variously described as “Craft Beer” (or “modern American style”) at the Nottingham BrewDog Bar in Hockley. Followed by the fine gentle relaxing taste of Kerala at the Kayal\, Hockley at about 8:00pm. \nThence: Are we enthused back to the BrewDog? Or are we spoilt by multi-venue choice and variety to be lured elsewhere? Come along to find out! 🙂 \n  \n7:30pm meet:\n \n\nBrewDog Nottingham\n20 – 22 Broad St\nNottingham\, NG1 3AL \nTelephone 0115 9583613\nOpenStreetMap  – BrewDog Nottingham\n\n  \n8:00pm thereabouts\, over to the nearby:\n\nKayal Restaurant Nottingham\n8 Broad Street\nNottingham\, NG1 3AL \nTelephone 0115 9414733\nGoogle Map\n\n  \nLater:\nLikely we can be found at one or all of BrewDog\, the Broadway Cinema Cafe Bar\, or the revamped Lord Roberts\, or Kean’s Head\, or completely round the bend at the reopened Cock & Hoop. \n  \nAll welcome! 🙂 \nJust look for the signs of Linux 😉 \nSee ya there! \nCheers\,\nMartin
URL:https://nlug.ml1.co.uk/event/brew-dog-kayal
LOCATION:BrewDog Nottingham\, 20 - 22 Broad St\, Nottingham\, NG1 3AL\, United Kingdom
CATEGORIES:Socials
END:VEVENT
END:VCALENDAR