BEGIN:VCALENDAR
VERSION:2.0
PRODID:-//Nottingham Linux Users Group - ECPv5.8.2//NONSGML v1.0//EN
CALSCALE:GREGORIAN
METHOD:PUBLISH
X-WR-CALNAME:Nottingham Linux Users Group
X-ORIGINAL-URL:https://nlug.ml1.co.uk
X-WR-CALDESC:Events for Nottingham Linux Users Group
BEGIN:VTIMEZONE
TZID:Europe/London
BEGIN:DAYLIGHT
TZOFFSETFROM:+0000
TZOFFSETTO:+0100
TZNAME:BST
DTSTART:20160327T010000
END:DAYLIGHT
BEGIN:STANDARD
TZOFFSETFROM:+0100
TZOFFSETTO:+0000
TZNAME:GMT
DTSTART:20161030T010000
END:STANDARD
END:VTIMEZONE
BEGIN:VEVENT
DTSTART;TZID=Europe/London:20160602T193000
DTEND;TZID=Europe/London:20160602T230000
DTSTAMP:20260426T021526
CREATED:20160330T212330Z
LAST-MODIFIED:20160530T220648Z
UID:5166-1464895800-1464908400@nlug.ml1.co.uk
SUMMARY:Brew Dog Kayal Millionaires!
DESCRIPTION:Folks\, \nIn our dire times of FUD and Brexit\, now is the time to try a change of brew and to jump across multiple borders and ways. Welcoming new boarders ( 😉 ) sees this social at 7:30pm testing an alternative to our usual ale to instead sample some “Craft Beer” (also described as “modern American style”) at the Nottingham BrewDog Bar in Hockley. \nAlso of great note\, for what might be a first for any brewery in the world\, earlier this year BrewDog Went FLOSS! \nAll followed by the fine gentle relaxing taste of Kerala at the Kayal\, Hockley at about 8:00pm. \nThence: Are we enthused back to the BrewDog or will we be lured elsewhere? Come along to find out! \n  \n7:30pm meet:\n \n\nBrewDog Nottingham\n20 – 22 Broad St\nNottingham\, NG1 3AL \nTelephone 0115 9583613\nOpenStreetMap  – BrewDog Nottingham\n\n  \n8:00pm thereabouts\, over to the nearby:\n\nKayal Restaurant Nottingham\n8 Broad Street\nNottingham\, NG1 3AL \nTelephone 0115 9414733\nGoogle Map\n\n  \nLater:\nLikely we can be found at one or all of BrewDog\, the Broadway Cinema Cafe Bar\, or the newly revamped Lord Roberts. \n  \nAll welcome! 🙂 \nJust look for the signs of Linux 😉 \nSee ya there! \nCheers\,\nMartin
URL:https://nlug.ml1.co.uk/event/brew-dog-kayal-millionaires
LOCATION:BrewDog Nottingham\, 20 - 22 Broad St\, Nottingham\, NG1 3AL\, United Kingdom
CATEGORIES:Socials
END:VEVENT
END:VCALENDAR