BEGIN:VCALENDAR
VERSION:2.0
PRODID:-//Nottingham Linux Users Group - ECPv5.8.2//NONSGML v1.0//EN
CALSCALE:GREGORIAN
METHOD:PUBLISH
X-WR-CALNAME:Nottingham Linux Users Group
X-ORIGINAL-URL:https://nlug.ml1.co.uk
X-WR-CALDESC:Events for Nottingham Linux Users Group
BEGIN:VTIMEZONE
TZID:Europe/London
BEGIN:DAYLIGHT
TZOFFSETFROM:+0000
TZOFFSETTO:+0100
TZNAME:BST
DTSTART:20170326T010000
END:DAYLIGHT
BEGIN:STANDARD
TZOFFSETFROM:+0100
TZOFFSETTO:+0000
TZNAME:GMT
DTSTART:20171029T010000
END:STANDARD
END:VTIMEZONE
BEGIN:VEVENT
DTSTART;TZID=Europe/London:20170404T193000
DTEND;TZID=Europe/London:20170404T213000
DTSTAMP:20260425T211636
CREATED:20170213T105743Z
LAST-MODIFIED:20170213T105743Z
UID:5570-1491334200-1491341400@nlug.ml1.co.uk
SUMMARY:Big Data: does size matter?
DESCRIPTION:Not one of our events\, but may well still be of interest. Run by Skeptics in the pub\, Nottingham\, this talk is all about Big Data\, it’s uses\, impacts\, benefits\, risks and so forth; all in a form understandable to us mere mortals. From the overview: \nBig Data knows where you’ve been and who your friends are. It knows what you like and what makes you angry. It can predict what you’ll buy\, where you’ll be the victim of crime and when you’ll have a heart attack. Big Data knows you better than you know yourself\, or so it claims.\nBut how well do you know big data? \nAccess to the upper conference area is via an external door beyond the main door (there’s usually a sign out). There is a smaller bar upstairs\, but it’s not normally open until after the talk\, so best fuel up in the main bar before heading up (exit via main door\, take hard right\, go up the stairs). \nEvent page.
URL:https://nlug.ml1.co.uk/event/big-data-does-size-matter
LOCATION:Canalhouse\, 48-52 Canal St\, Nottingham\, Nottinghamshire\, NG1 7EH\, United Kingdom
CATEGORIES:Talks
END:VEVENT
END:VCALENDAR