BEGIN:VCALENDAR
VERSION:2.0
PRODID:-//Nottingham Linux Users Group - ECPv5.8.2//NONSGML v1.0//EN
CALSCALE:GREGORIAN
METHOD:PUBLISH
X-WR-CALNAME:Nottingham Linux Users Group
X-ORIGINAL-URL:https://nlug.ml1.co.uk
X-WR-CALDESC:Events for Nottingham Linux Users Group
BEGIN:VTIMEZONE
TZID:Europe/London
BEGIN:DAYLIGHT
TZOFFSETFROM:+0000
TZOFFSETTO:+0100
TZNAME:BST
DTSTART:20110327T010000
END:DAYLIGHT
BEGIN:STANDARD
TZOFFSETFROM:+0100
TZOFFSETTO:+0000
TZNAME:GMT
DTSTART:20111030T010000
END:STANDARD
END:VTIMEZONE
BEGIN:VEVENT
DTSTART;TZID=Europe/London:20110805T190000
DTEND;TZID=Europe/London:20110805T230000
DTSTAMP:20260425T150956
CREATED:20110804T123707Z
LAST-MODIFIED:20110804T123707Z
UID:519-1312570800-1312585200@nlug.ml1.co.uk
SUMMARY:Beeston Cider\, Cheese and Hog-roast
DESCRIPTION:A few people expressed interest in this: \nThe Crown Inn in Beeston is having a cider\, cheese and hog-roast festival this weekend. I’ll probably be there from some point after 1900-ish\, standing around a bunch of boffins looking confused. No change there then. They usually have live music at this kind of thing\, the genre varies but the standard is usually pretty high. \nThe Crown is not far from Beeston bus station. If you walk out the back of the station\, following the path on the right around to Church St\, the Crown is just at the end of that. \nCrown Inn\nChurch Street\nBeeston\nNottingham\, NG9 1FY\nTelephone: 01159 254738\nI have no idea how veggie friendly the cheese will be\, just drink more cider instead. 🙂 \n—\nJason Irwin
URL:https://nlug.ml1.co.uk/event/beeston-cider-cheese-and-hog-roast
LOCATION:Crown Inn\, Church Street\, Beeston\, Nottingham\, NG9 1FY\, United Kingdom
CATEGORIES:Socials
END:VEVENT
END:VCALENDAR