BEGIN:VCALENDAR
VERSION:2.0
PRODID:-//Nottingham Linux Users Group - ECPv5.8.2//NONSGML v1.0//EN
CALSCALE:GREGORIAN
METHOD:PUBLISH
X-WR-CALNAME:Nottingham Linux Users Group
X-ORIGINAL-URL:https://nlug.ml1.co.uk
X-WR-CALDESC:Events for Nottingham Linux Users Group
BEGIN:VTIMEZONE
TZID:Europe/London
BEGIN:DAYLIGHT
TZOFFSETFROM:+0000
TZOFFSETTO:+0100
TZNAME:BST
DTSTART:20110327T010000
END:DAYLIGHT
BEGIN:STANDARD
TZOFFSETFROM:+0100
TZOFFSETTO:+0000
TZNAME:GMT
DTSTART:20111030T010000
END:STANDARD
END:VTIMEZONE
BEGIN:VEVENT
DTSTART;TZID=Europe/London:20110831T200000
DTEND;TZID=Europe/London:20110831T230000
DTSTAMP:20260425T201054
CREATED:20110725T185745Z
LAST-MODIFIED:20110830T114349Z
UID:487-1314820800-1314831600@nlug.ml1.co.uk
SUMMARY:Beeston Blue Moon Beers
DESCRIPTION:Just a few informal beers in Beeston to celebrate the occasional Blue Moon! \nPost new moon of Pluto\, post rms-talk\, who needs any excuse for a few beers at: \nThe Last Post! \nI’ll be there from 8pm to catch up on a few beers and linux… Just look for the Linux mags and netbooks. \nSee a few there 🙂 \nCheers\,\nMartin \n  \n  \n  \n“Blue Moon” in this context is used to mean “a rare event”. Usage here is also a corruption on the description for when there is an extra full moon during a season\, in that the beers meet-up fills in for when we have a fifth Wednesday in a calendar month 🙂
URL:https://nlug.ml1.co.uk/event/beeston-blue-moon-beers-2
LOCATION:The Last Post\, Chilwell Road\, Beeston\, Nottingham\, NG9 1AA\, United Kingdom
CATEGORIES:Socials
END:VEVENT
END:VCALENDAR