BEGIN:VCALENDAR
VERSION:2.0
PRODID:-//Nottingham Linux Users Group - ECPv5.8.2//NONSGML v1.0//EN
CALSCALE:GREGORIAN
METHOD:PUBLISH
X-WR-CALNAME:Nottingham Linux Users Group
X-ORIGINAL-URL:https://nlug.ml1.co.uk
X-WR-CALDESC:Events for Nottingham Linux Users Group
BEGIN:VTIMEZONE
TZID:Europe/London
BEGIN:DAYLIGHT
TZOFFSETFROM:+0000
TZOFFSETTO:+0100
TZNAME:BST
DTSTART:20110327T010000
END:DAYLIGHT
BEGIN:STANDARD
TZOFFSETFROM:+0100
TZOFFSETTO:+0000
TZNAME:GMT
DTSTART:20111030T010000
END:STANDARD
END:VTIMEZONE
BEGIN:VEVENT
DTSTART;VALUE=DATE:20110917
DTEND;VALUE=DATE:20110919
DTSTAMP:20260426T001046
CREATED:20110727T001902Z
LAST-MODIFIED:20130107T004130Z
UID:501-1316217600-1316390399@nlug.ml1.co.uk
SUMMARY:BarCampMediaCityUK Manchester
DESCRIPTION:A barcamp nearby-ish at BBC MediaCityUK\, Salford Quays\, Manchester: \n  \nBarCampMediaCityUK Manchester\n17th and 18th September 2011 at BBC Media City UK \n \nSee their Barcamp website for details!
URL:https://nlug.ml1.co.uk/event/barcampmediacityuk-manchester
LOCATION:BBC MediaCityUK\, Salford Quays\, Manchester\, M50\, United Kingdom
CATEGORIES:Barcamps
END:VEVENT
END:VCALENDAR