BEGIN:VCALENDAR
VERSION:2.0
PRODID:-//Nottingham Linux Users Group - ECPv5.8.2//NONSGML v1.0//EN
CALSCALE:GREGORIAN
METHOD:PUBLISH
X-WR-CALNAME:Nottingham Linux Users Group
X-ORIGINAL-URL:https://nlug.ml1.co.uk
X-WR-CALDESC:Events for Nottingham Linux Users Group
BEGIN:VTIMEZONE
TZID:Europe/London
BEGIN:DAYLIGHT
TZOFFSETFROM:+0000
TZOFFSETTO:+0100
TZNAME:BST
DTSTART:20120325T010000
END:DAYLIGHT
BEGIN:STANDARD
TZOFFSETFROM:+0100
TZOFFSETTO:+0000
TZNAME:GMT
DTSTART:20121028T010000
END:STANDARD
END:VTIMEZONE
BEGIN:VEVENT
DTSTART;TZID=Europe/London:20120516T193000
DTEND;TZID=Europe/London:20120516T230059
DTSTAMP:20260425T044959
CREATED:20120514T124432Z
LAST-MODIFIED:20120514T124432Z
UID:3113-1337196600-1337209259@nlug.ml1.co.uk
SUMMARY:An Iberico Hoop
DESCRIPTION:Folks\, \nContinuing our travels around the world in Nottingham\, we have by special request: \nOur usual 7:30pm beers meet at: \nCock & Hoop\n25 High Pavement\nNottingham\, NG1 1HE\nTelephone: 0115 8523231 \nOpenStreetMap\nlatitude: 52.95097\nlongitude: -1.14433\nFollowed by a slightly later 9pm move to food: \nIberico World Tapas\nThe Shire Hall\nHigh Pavement\nLace Market\nNottinghamshire NG1 1HN\nTelephone: 0115 9410410 \nOpenStreetMap\nlatitude: 52.95087\nlongitude: -1.14429\n  \nAll welcome! \nSee ya there\, \nCheers\,\nMartin
URL:https://nlug.ml1.co.uk/event/an-iberico-hoop
LOCATION:Cock & Hoop\, 25 High Pavement\, Nottingham\, NG1 1HE\, United Kingdom
CATEGORIES:Socials
END:VEVENT
END:VCALENDAR