BEGIN:VCALENDAR
VERSION:2.0
PRODID:-//Nottingham Linux Users Group - ECPv5.8.2//NONSGML v1.0//EN
CALSCALE:GREGORIAN
METHOD:PUBLISH
X-WR-CALNAME:Nottingham Linux Users Group
X-ORIGINAL-URL:https://nlug.ml1.co.uk
X-WR-CALDESC:Events for Nottingham Linux Users Group
BEGIN:VTIMEZONE
TZID:Europe/London
BEGIN:DAYLIGHT
TZOFFSETFROM:+0000
TZOFFSETTO:+0100
TZNAME:BST
DTSTART:20160327T010000
END:DAYLIGHT
BEGIN:STANDARD
TZOFFSETFROM:+0100
TZOFFSETTO:+0000
TZNAME:GMT
DTSTART:20161030T010000
END:STANDARD
END:VTIMEZONE
BEGIN:VEVENT
DTSTART;TZID=Europe/London:20160707T193000
DTEND;TZID=Europe/London:20160707T230000
DTSTAMP:20260426T023642
CREATED:20160330T212736Z
LAST-MODIFIED:20160702T235548Z
UID:5169-1467919800-1467932400@nlug.ml1.co.uk
SUMMARY:An Evening at the Kean’s Head
DESCRIPTION:Venturing to an old quarter of Nottingham in the shadow of St Mary’s Cathedral\, where modern day vehicles are not supposed to go\, we go abouts 7:30pm for good beer and good cheer and good food to: \n  \n\nKean’s Head\n46 St Mary’s Gate\nNottingham\, NG1 1QA \nPhone: 0115 9474052 \nOpenStreetMap – Kean’s Head\n\n… And on account of the good food and good beer\, we’ll likely be staying there to continue the good cheer 🙂 \n  \nAnd the barmy question of the night may well be which politicians keep their heads in these days of a post-Brexit witch-hunt. Interesting times?… As done for our previous social: \nUnusually and specially for these recent days of Brexit\, so as not to spoil the evening with the present political silliness\, can we restrain ourselves to only “what next” and for what can positively be done? Preference is to be given to all other topics! \n  \n \n  \nAll welcome! Just look for penguins and techno-geekery 😉 \nSee ya there 🙂 \nCheers\,\nMartin
URL:https://nlug.ml1.co.uk/event/an-evening-at-the-keans-head-2
LOCATION:Kean’s Head\, 46 St Mary's Gate\, Nottingham\, NG1 1QA\, United Kingdom
CATEGORIES:Socials
END:VEVENT
END:VCALENDAR