BEGIN:VCALENDAR
VERSION:2.0
PRODID:-//Nottingham Linux Users Group - ECPv5.8.2//NONSGML v1.0//EN
CALSCALE:GREGORIAN
METHOD:PUBLISH
X-WR-CALNAME:Nottingham Linux Users Group
X-ORIGINAL-URL:https://nlug.ml1.co.uk
X-WR-CALDESC:Events for Nottingham Linux Users Group
BEGIN:VTIMEZONE
TZID:Europe/London
BEGIN:DAYLIGHT
TZOFFSETFROM:+0000
TZOFFSETTO:+0100
TZNAME:BST
DTSTART:20120325T010000
END:DAYLIGHT
BEGIN:STANDARD
TZOFFSETFROM:+0100
TZOFFSETTO:+0000
TZNAME:GMT
DTSTART:20121028T010000
END:STANDARD
END:VTIMEZONE
BEGIN:VEVENT
DTSTART;TZID=Europe/London:20120418T193000
DTEND;TZID=Europe/London:20120418T230059
DTSTAMP:20260425T015237
CREATED:20120415T215049Z
LAST-MODIFIED:20120415T215049Z
UID:2433-1334777400-1334790059@nlug.ml1.co.uk
SUMMARY:An April Maysum
DESCRIPTION:Folks\, \nFor the sake of puns-R-us silliness\, this was planned for the May social\, but hey! With a description such as “Maysum Pan Asian Buffet Restaurant & Teppanyaki“\, who could resist any longer?! (It also lends a good contrast to continue our culinary romp around the world 😉 ) \nAnd a very good distinction with this venue is that so far\, they are the only restauranteur to have recognized the name “Linux” as being that of an OS. Is that due to well educated staff? Or acknowledgement of the recent TV news splash about the Raspberry Pi that is now available for desert? 🙂 \nAnd so without further ado: \nWe have our usual Langtry’s meetup at 7:30pm: \nLangtry’s Pub\n4 South Sherwood St\nNottingham\, NG1 4BY\nTelephone 08721 077077 \nGoogle Map\nTo then pan around 8:00pm to: \nMay Sum Buffet Restaurant\n92-98 Upper Parliament Street\nNottingham\, NG1 6LF\nTelephone 0115 9122000 \nMay Sum Google Map\n  \nAll welcome! \nSee ya there\, \nCheers\,\nMartin
URL:https://nlug.ml1.co.uk/event/an-april-maysum
LOCATION:Langtry’s\, 4 South Sherwood St\, Nottingham\, NG1 4BY\, United Kingdom
CATEGORIES:Socials
END:VEVENT
END:VCALENDAR