BEGIN:VCALENDAR
VERSION:2.0
PRODID:-//Nottingham Linux Users Group - ECPv5.8.2//NONSGML v1.0//EN
CALSCALE:GREGORIAN
METHOD:PUBLISH
X-WR-CALNAME:Nottingham Linux Users Group
X-ORIGINAL-URL:https://nlug.ml1.co.uk
X-WR-CALDESC:Events for Nottingham Linux Users Group
BEGIN:VTIMEZONE
TZID:Europe/London
BEGIN:DAYLIGHT
TZOFFSETFROM:+0000
TZOFFSETTO:+0100
TZNAME:BST
DTSTART:20190331T010000
END:DAYLIGHT
BEGIN:STANDARD
TZOFFSETFROM:+0100
TZOFFSETTO:+0000
TZNAME:GMT
DTSTART:20191027T010000
END:STANDARD
END:VTIMEZONE
BEGIN:VEVENT
DTSTART;TZID=Europe/London:20190829T193000
DTEND;TZID=Europe/London:20190829T230000
DTSTAMP:20260426T040802
CREATED:20190829T012957Z
LAST-MODIFIED:20190829T012957Z
UID:9812-1567107000-1567119600@nlug.ml1.co.uk
SUMMARY:An Angel Tarn Blue Moon Social
DESCRIPTION:Folks\, \n  \n7:30pm Thursday 29/08/2019: An Angel Tarn Blue Moon Social \nWe have for our extra Thursday some good taste and good beer and good cheer! 🙂 \n \n  \nUsual 7:30pm pre-food meet in: \n  \n\nAngel Microbrewery \n7 Stoney Street\, Lace Market\nNottingham\, NG1 1LG \nPhone: 0115 948 3343\n \n  \n \nFollowing on for 8:15pm onwards to taste: \n  \n\nTarn Thai Restaurant \n9 George Street\nNottingham\, NG1 3BH \nPhone: 0115 959 9454\n \n  \nAll welcome 🙂 \nDodge the thunder and lightning and see ya there!! 😉 \nCheers\,\nMartin
URL:https://nlug.ml1.co.uk/event/an-angel-tarn-blue-moon-social
LOCATION:Angel Microbrewery\, 7 Stoney Street\, Lace Market\, Nottingham\, NG1 1LG\, United Kingdom
CATEGORIES:Socials
END:VEVENT
END:VCALENDAR