BEGIN:VCALENDAR
VERSION:2.0
PRODID:-//Nottingham Linux Users Group - ECPv5.8.2//NONSGML v1.0//EN
CALSCALE:GREGORIAN
METHOD:PUBLISH
X-WR-CALNAME:Nottingham Linux Users Group
X-ORIGINAL-URL:https://nlug.ml1.co.uk
X-WR-CALDESC:Events for Nottingham Linux Users Group
BEGIN:VTIMEZONE
TZID:Europe/London
BEGIN:DAYLIGHT
TZOFFSETFROM:+0000
TZOFFSETTO:+0100
TZNAME:BST
DTSTART:20120325T010000
END:DAYLIGHT
BEGIN:STANDARD
TZOFFSETFROM:+0100
TZOFFSETTO:+0000
TZNAME:GMT
DTSTART:20121028T010000
END:STANDARD
END:VTIMEZONE
BEGIN:VEVENT
DTSTART;TZID=Europe/London:20120201T193000
DTEND;TZID=Europe/London:20120201T230059
DTSTAMP:20260426T040342
CREATED:20120103T003803Z
LAST-MODIFIED:20120128T233152Z
UID:823-1328124600-1328137259@nlug.ml1.co.uk
SUMMARY:AIGT - Virtual Machines
DESCRIPTION:There’s YACCs\, YETIs\, HOWTOs\, and… \n… And this is: \nAn Irwin’s Guide To – Virtual Machines\nFurther details once we hit reality! 😉 \n  \nAll at our usual real-world venue: \nFellows Morton and Clayton\n54 Canal Street\nNottingham\, NG1 7EH\nTelephone: 0115 9506795\nTo find us\, go through to the back of the pub and we’re up the spiral staircase in the restaurant. Just ask one of the friendly bar staff for NLUG if lost. \nFood is also served through into the evening. \n  \nWednesday 01/02/2012: \n\n7:30pm: Meet\n8:00pm: Talk\n9:00pm: General discussions\n\nAll welcome! \n  \nCheers\,\nMartin
URL:https://nlug.ml1.co.uk/event/aigt-virtual-machines
LOCATION:Fellows Morton and Clayton\, 54 Canal Street\, Nottingham\, NG1 7EH\, United Kingdom
CATEGORIES:Talks
END:VEVENT
END:VCALENDAR