BEGIN:VCALENDAR
VERSION:2.0
PRODID:-//Nottingham Linux Users Group - ECPv5.8.2//NONSGML v1.0//EN
CALSCALE:GREGORIAN
METHOD:PUBLISH
X-WR-CALNAME:Nottingham Linux Users Group
X-ORIGINAL-URL:https://nlug.ml1.co.uk
X-WR-CALDESC:Events for Nottingham Linux Users Group
BEGIN:VTIMEZONE
TZID:Europe/London
BEGIN:DAYLIGHT
TZOFFSETFROM:+0000
TZOFFSETTO:+0100
TZNAME:BST
DTSTART:20120325T010000
END:DAYLIGHT
BEGIN:STANDARD
TZOFFSETFROM:+0100
TZOFFSETTO:+0000
TZNAME:GMT
DTSTART:20121028T010000
END:STANDARD
END:VTIMEZONE
BEGIN:VEVENT
DTSTART;TZID=Europe/London:20120621T193000
DTEND;TZID=Europe/London:20120621T230059
DTSTAMP:20260425T132846
CREATED:20120530T143007Z
LAST-MODIFIED:20120601T202733Z
UID:3223-1340307000-1340319659@nlug.ml1.co.uk
SUMMARY:A Royal HHGTTG
DESCRIPTION:Arthur Dent is having a bad day… For which two beers and a packet of peanuts become important ingredients for a giant leap of one of Mankind… \nWas that possibly on this day? \n  \nFor those that know\, something not to be missed. For those that don’t know\, still something not to be missed! This show forever altered BBC Radio as was then known!! The world and philosophy also were changed forever with the prophetic phrase: Don’t Panic! … Culminating in\, (or was that beginning with?) The Ultimate Question: \n  \n42 \n  \nA few of us are booked in for a Nottingham Royal HHGTTG to oncemore hear The Book speak… (All other effects and characters and any happenings that might happen are purely incidental.) \n  \nSorry for the inconvenience. \n  \nThanks to Jason for organizing the tickets. Further details nearer the time\, please check on the maillist. \nIn summary\, for perhaps the greatest planetary summary there ever can be:\n  \nMostly harmless. \n  \nCheers\,\nMartin
URL:https://nlug.ml1.co.uk/event/a-royal-hhgttg
LOCATION:Royal Concert Hall\, Theatre Square\, Nottingham\, NG1 5ND\, United Kingdom
CATEGORIES:Socials
END:VEVENT
END:VCALENDAR