BEGIN:VCALENDAR
VERSION:2.0
PRODID:-//Nottingham Linux Users Group - ECPv5.8.2//NONSGML v1.0//EN
CALSCALE:GREGORIAN
METHOD:PUBLISH
X-WR-CALNAME:Nottingham Linux Users Group
X-ORIGINAL-URL:https://nlug.ml1.co.uk
X-WR-CALDESC:Events for Nottingham Linux Users Group
BEGIN:VTIMEZONE
TZID:Europe/London
BEGIN:DAYLIGHT
TZOFFSETFROM:+0000
TZOFFSETTO:+0100
TZNAME:BST
DTSTART:20160327T010000
END:DAYLIGHT
BEGIN:STANDARD
TZOFFSETFROM:+0100
TZOFFSETTO:+0000
TZNAME:GMT
DTSTART:20161030T010000
END:STANDARD
END:VTIMEZONE
BEGIN:VEVENT
DTSTART;TZID=Europe/London:20160831T193000
DTEND;TZID=Europe/London:20160831T230000
DTSTAMP:20260425T163553
CREATED:20160330T213221Z
LAST-MODIFIED:20160829T162110Z
UID:5171-1472671800-1472684400@nlug.ml1.co.uk
SUMMARY:A Malt Cross Marrakesh
DESCRIPTION:PLEASE NOTE THE CHANGE IN DAY! Weds 31st Aug not Thurs 1sp Sept. \nFor a known good fab combination\, how could we not? ? \nHence to wander across for 7:30pm thereabouts: \nMalt Cross\n16 St James’s Street\,\nNottingham\, NG1 6FG\nPhone: 0115 9411048\nGoogle Map \n(The Malt Cross is through the small door directly opposite The Roebuck \n \n  \nContinuing nearby at 8pm for the delights of: \nRestaurant – Marrakesh\n6 Chapel Bar\nNottingham\, NG1 6JQ\nTelephone: 0115 9473038\nGoogle map \n  \nWe’ll then venture onwards to another nearby venue until close of play… \nYe Olde Bell? Or a return to the Cross for less ringing ears and more talk? Or further beyond down to Ye Olde Trip?…
URL:https://nlug.ml1.co.uk/event/a-malt-cross-marrakesh-3
LOCATION:Malt Cross\, 16 St James’s Street\, Nottingham\, NG1 6FG\, United Kingdom
CATEGORIES:Socials
END:VEVENT
END:VCALENDAR