BEGIN:VCALENDAR
VERSION:2.0
PRODID:-//Nottingham Linux Users Group - ECPv5.8.2//NONSGML v1.0//EN
CALSCALE:GREGORIAN
METHOD:PUBLISH
X-WR-CALNAME:Nottingham Linux Users Group
X-ORIGINAL-URL:https://nlug.ml1.co.uk
X-WR-CALDESC:Events for Nottingham Linux Users Group
BEGIN:VTIMEZONE
TZID:Europe/London
BEGIN:DAYLIGHT
TZOFFSETFROM:+0000
TZOFFSETTO:+0100
TZNAME:BST
DTSTART:20120325T010000
END:DAYLIGHT
BEGIN:STANDARD
TZOFFSETFROM:+0100
TZOFFSETTO:+0000
TZNAME:GMT
DTSTART:20121028T010000
END:STANDARD
END:VTIMEZONE
BEGIN:VEVENT
DTSTART;TZID=Europe/London:20120118T193000
DTEND;TZID=Europe/London:20120118T230059
DTSTAMP:20260426T005351
CREATED:20120103T002605Z
LAST-MODIFIED:20120103T004105Z
UID:819-1326915000-1326927659@nlug.ml1.co.uk
SUMMARY:A Malt and Marrakesh
DESCRIPTION:How can we not start the year with an unbeatable combination of two favourites from the previous year? \n  \n“X” marks the spot for 7:30pm at: \nMalt Cross\n16 St James’s Street\,\nNottingham\, NG1 6FG\nPhone: 0115 9411048\nGoogle Map \n(The Malt Cross is through the small door directly opposite The Roebuck) \n  \nTo thence sample the nearby 8pm delights of: \n \nRestaurant – Marrakesh\n6 Chapel Bar\nNottingham\, NG1 6JQ\nTelephone: 0115 9473038\nGoogle map \n  \nLater\, no doubt we’ll venture onwards to another nearby venue until close of play… Ye Olde Bell? Or a return to the Cross for less ringing ears and more talk? \nJust look out for the holy glow of Linux mags and geekie devices! 🙂 \nAll welcome\, \nCheers\,\nMartin
URL:https://nlug.ml1.co.uk/event/a-malt-and-marrakesh
LOCATION:Malt Cross Cafe Bar\, 16 St James's Street\, Nottingham\, NG1 6FG\, United Kingdom
CATEGORIES:Socials
END:VEVENT
END:VCALENDAR