BEGIN:VCALENDAR
VERSION:2.0
PRODID:-//Nottingham Linux Users Group - ECPv5.8.2//NONSGML v1.0//EN
CALSCALE:GREGORIAN
METHOD:PUBLISH
X-WR-CALNAME:Nottingham Linux Users Group
X-ORIGINAL-URL:https://nlug.ml1.co.uk
X-WR-CALDESC:Events for Nottingham Linux Users Group
BEGIN:VTIMEZONE
TZID:Europe/London
BEGIN:DAYLIGHT
TZOFFSETFROM:+0000
TZOFFSETTO:+0100
TZNAME:BST
DTSTART:20160327T010000
END:DAYLIGHT
BEGIN:STANDARD
TZOFFSETFROM:+0100
TZOFFSETTO:+0000
TZNAME:GMT
DTSTART:20161030T010000
END:STANDARD
END:VTIMEZONE
BEGIN:VEVENT
DTSTART;TZID=Europe/London:20160811T193000
DTEND;TZID=Europe/London:20160811T230000
DTSTAMP:20260425T194148
CREATED:20160330T213009Z
LAST-MODIFIED:20160810T110038Z
UID:5170-1470943800-1470956400@nlug.ml1.co.uk
SUMMARY:A Lilly Langtry and Chiquito
DESCRIPTION:(If can be squeezed in in-between weeks!) \nFolks\, \nWith so many international stories to tell on our return from a quirky old British Protectorate\, this has just got to be squeezed in! 🙂 \nUsual timings of 7:30pm pre-food beer at Langtry’s. Followed 8:15pm by food at the nearby Chiquito’s in the Corner House. \nAll informal and all welcome for food\, beer\, good cheer\, and all and anything Linux\, and everything else! \n(Our bash talk will be given as part of the evening for our next meet\, next week…)
URL:https://nlug.ml1.co.uk/event/a-lilly-langtry-and-chiquito-3
LOCATION:Langtrys Pub\, South Sherwood St\, Nottingham\, NG1 4BY\, United Kingdom
CATEGORIES:Socials
END:VEVENT
END:VCALENDAR