BEGIN:VCALENDAR
VERSION:2.0
PRODID:-//Nottingham Linux Users Group - ECPv5.8.2//NONSGML v1.0//EN
CALSCALE:GREGORIAN
METHOD:PUBLISH
X-WR-CALNAME:Nottingham Linux Users Group
X-ORIGINAL-URL:https://nlug.ml1.co.uk
X-WR-CALDESC:Events for Nottingham Linux Users Group
BEGIN:VTIMEZONE
TZID:Europe/London
BEGIN:DAYLIGHT
TZOFFSETFROM:+0000
TZOFFSETTO:+0100
TZNAME:BST
DTSTART:20170326T010000
END:DAYLIGHT
BEGIN:STANDARD
TZOFFSETFROM:+0100
TZOFFSETTO:+0000
TZNAME:GMT
DTSTART:20171029T010000
END:STANDARD
END:VTIMEZONE
BEGIN:VEVENT
DTSTART;TZID=Europe/London:20170504T193000
DTEND;TZID=Europe/London:20170504T230000
DTSTAMP:20260426T022634
CREATED:20170502T161650Z
LAST-MODIFIED:20170502T163051Z
UID:9138-1493926200-1493938800@nlug.ml1.co.uk
SUMMARY:A Bonzai Brew Dog
DESCRIPTION:Folks\, \nBranching out in a small way from last month 🙂 and to drink and eat for good health 😉 we have for our freedoms and feast: \n  \n7:30pm meet for freedom in beer at:\n\nBrewDog Nottingham\n20 – 22 Broad St\nNottingham\, NG1 3AL \nTelephone 0115 9583613\nOpenStreetMap  – BrewDog Nottingham\n\n  \n8:00pm thereabouts\, exploring healthy subtlety nearby at Bonzai:\n \n\nBonzai Sushi & Noodle Bar\n11 – 13 Carlton Street\nNottingham\, NG1 1NL \nTelephone 0115 9520188\nOpenStreetMap – Bonzai\n\n  \nLater:\nLikely we can be found at one of BrewDog\, the Angel Microbrewery\, or Kean’s Head\, or completely round the bend at the reopened Cock & Hoop 😛 \n  \n\nAll welcome! 🙂 \nJust look for the signs of Linux 😉 \nSee ya there! \nCheers\,\nMartin
URL:https://nlug.ml1.co.uk/event/a-bonzai-brew-dog
LOCATION:BrewDog Nottingham\, 20 - 22 Broad St\, Nottingham\, NG1 3AL\, United Kingdom
CATEGORIES:Socials
END:VEVENT
END:VCALENDAR